BEGIN:VCALENDAR
VERSION:2.0
PRODID:-//ChamberMaster//Event Calendar 2.0//EN
METHOD:PUBLISH
X-PUBLISHED-TTL:P3D
REFRESH-INTERVAL:P3D
CALSCALE:GREGORIAN
BEGIN:VEVENT
DTSTART:20120421T170000Z
DTEND:20120422T210000Z
X-MICROSOFT-CDO-ALLDAYEVENT:FALSE
SUMMARY:FREE BASS PRO SHOPS KIDS' CHALLENGE WEEKEND
DESCRIPTION:Bass Pro Shops Kids' Challenge Weekend Event will include free activities\, prizes and giveaways at 54 Bass Pro Shops locations. Kids are invited to join the fun at the Bass Pro Shops Kids' Challenge on Saturday\, April 21st\, and Sunday\, April 22nd from Noon to 4pm.  The event offers exciting challenges\, such as bucket fishing\, archery\, life jacket races\, knot-tying and a sleeping bag rolling competition. Younger children will have a chance to get in on the action with their very own free activities like braided snake and arrow head crafts\, plus a chance to win fun prizes\, both days from 1pm to 4pm - while supplies last.\nPlease visit www.basspro.com for a complete list of locations participating in the Bass Pro Shops Kids' Challenge Weekend Event.\nMEDIA CONTACT:\nBASS PRO SHOPS * Katie Mitchell *417.873.5618 * kamitchell@basspro.com
X-ALT-DESC;FMTTYPE=text/html:Bass Pro Shops Kids' Challenge Weekend Event will include free activities\, prizes and giveaways at 54 Bass Pro Shops locations. Kids are invited to join the fun at the Bass Pro Shops Kids' Challenge on Saturday\, April 21st\, and Sunday\, April 22nd from Noon to 4pm.  The event offers exciting challenges\, such as bucket fishing\, archery\, life jacket races\, knot-tying and a sleeping bag rolling competition. Younger children will have a chance to get in on the action with their very own free activities like braided snake and arrow head crafts\, plus a chance to win fun prizes\, both days from 1pm to 4pm - while supplies last.\nPlease visit www.basspro.com for a complete list of locations participating in the Bass Pro Shops Kids' Challenge Weekend Event.\nMEDIA CONTACT:\nBASS PRO SHOPS * Katie Mitchell *417.873.5618 * kamitchell@basspro.com\n
LOCATION:
UID:e.1828.3616
SEQUENCE:3
DTSTAMP:20260420T163452Z
URL:https://business.harlingen.com/events/details/free-bass-pro-shops-kids-challenge-weekend-04-21-2012-3616
END:VEVENT

END:VCALENDAR
