BEGIN:VCALENDAR
VERSION:2.0
PRODID:-//ChamberMaster//Event Calendar 2.0//EN
METHOD:PUBLISH
X-PUBLISHED-TTL:P3D
REFRESH-INTERVAL:P3D
CALSCALE:GREGORIAN
BEGIN:VEVENT
DTSTART;VALUE=DATE:20100730
DTEND;VALUE=DATE:20100802
TRANSP:TRANSPARENT
X-MICROSOFT-CDO-ALLDAYEVENT:TRUE
SUMMARY:FREE - BizFest Training & Competion for Young People
DESCRIPTION:FREE - BizFest Training & Competion for Young People at UTPA - College of Business.  Opportunity for 30 junior and senior high school students.  3 days of Entrepreneurship Training\, Business Plan Development and             Business Plan Contest.  For more information please contact: Jennifer Tarazan @ 202.715.0493 or  www.ushccfoundation.org or John Sargent\, PhD\,Professor of International Business and Entrepreneurship Phone:  956-316-7137 Email:  jsargent@utpa.edu
X-ALT-DESC;FMTTYPE=text/html:FREE - BizFest Training & Competion for Young People at UTPA - College of Business.  Opportunity for 30 junior and senior high school students.  3 days of Entrepreneurship Training\, Business Plan Development and             Business Plan Contest.  For more information please contact: Jennifer Tarazan @ 202.715.0493 or  www.ushccfoundation.org or John Sargent\, PhD\,Professor of International Business and Entrepreneurship Phone:  956-316-7137 Email:  jsargent@utpa.edu\n \n \n \n \n\n
LOCATION:
UID:e.1828.2604
SEQUENCE:3
DTSTAMP:20260422T001843Z
URL:https://business.harlingen.com/events/details/free-bizfest-training-competion-for-young-people-07-30-2010-2604
END:VEVENT

END:VCALENDAR
