BEGIN:VCALENDAR
VERSION:2.0
PRODID:-//ChamberMaster//Event Calendar 2.0//EN
METHOD:PUBLISH
X-PUBLISHED-TTL:P3D
REFRESH-INTERVAL:P3D
CALSCALE:GREGORIAN
BEGIN:VEVENT
DTSTART:20100406T000000Z
DTEND:20100406T000000Z
X-MICROSOFT-CDO-ALLDAYEVENT:FALSE
SUMMARY:Free Class on Steps to Get Out of Debt\, Build Wealth and Save for the Future
DESCRIPTION:Dave Ramsey is offering a one-time\, free class in which he will be teaching his steps to get out of debt\, build wealth and save for the future.  Project Future Design is hosting the event in Harlingen on Monday\, April 5th\, at 7pm at Faith Pleases God Church\, 4501 W Expressway 83\, Harlingen.  For more information\, please call (956) 428-4848.
X-ALT-DESC;FMTTYPE=text/html:Dave Ramsey is offering a one-time\, free class in which he will be teaching his steps to get out of debt\, build wealth and save for the future.  Project Future Design is hosting the event in Harlingen on Monday\, April 5th\, at 7pm at Faith Pleases God Church\, 4501 W Expressway 83\, Harlingen.  For more information\, please call (956) 428-4848.
LOCATION:
UID:e.1828.2474
SEQUENCE:3
DTSTAMP:20260422T063858Z
URL:https://business.harlingen.com/events/details/free-class-on-steps-to-get-out-of-debt-build-wealth-and-save-for-the-future-04-05-2010-2474
END:VEVENT

END:VCALENDAR
