BEGIN:VCALENDAR
VERSION:2.0
PRODID:-//ChamberMaster//Event Calendar 2.0//EN
METHOD:PUBLISH
X-PUBLISHED-TTL:P3D
REFRESH-INTERVAL:P3D
CALSCALE:GREGORIAN
BEGIN:VEVENT
DTSTART:20100624T130000Z
DTEND:20100624T190000Z
X-MICROSOFT-CDO-ALLDAYEVENT:FALSE
SUMMARY:Free Document Shredding Day
DESCRIPTION:Please join us for a Free Document Shredding Day at the Harlingen Area Chamber of Commerce.  Dumpster diving\," or rifling through trash cans for personal information is a tactic used by identity thieves. You are taking a terrible risk if you don't shred sensitive material. Bring these papers to the Chamber on June 24th from 8 am to 2 pm for free shredding courtesy of Lone Star Shredding & Document Storage. Their truck will be parked in front of the Chamber to shred the documents onsite. Take advantage of this free service!  For more information\, please contact the chamber at 956-423-5440.
X-ALT-DESC;FMTTYPE=text/html:Please join us for a Free Document Shredding Day at the Harlingen Area Chamber of Commerce.  Dumpster diving\," or rifling through trash cans for personal information is a tactic used by identity thieves. You are taking a terrible risk if you don't shred sensitive material. Bring these papers to the Chamber on June 24th from 8 am to 2 pm for free shredding courtesy of Lone Star Shredding & Document Storage. Their truck will be parked in front of the Chamber to shred the documents onsite. Take advantage of this free service!  For more information\, please contact the chamber at 956-423-5440.
LOCATION:
UID:e.1828.2584
SEQUENCE:3
DTSTAMP:20260422T030918Z
URL:https://business.harlingen.com/events/details/free-document-shredding-day-06-24-2010-2584
END:VEVENT

END:VCALENDAR
