BEGIN:VCALENDAR
VERSION:2.0
PRODID:-//ChamberMaster//Event Calendar 2.0//EN
METHOD:PUBLISH
X-PUBLISHED-TTL:P3D
REFRESH-INTERVAL:P3D
CALSCALE:GREGORIAN
BEGIN:VEVENT
DTSTART;VALUE=DATE:20120224
DTEND;VALUE=DATE:20120225
TRANSP:TRANSPARENT
X-MICROSOFT-CDO-ALLDAYEVENT:TRUE
SUMMARY:Free Fishing Seminars Bass Pro Shops 2012 Spring Fishing Classics
DESCRIPTION:*Free Fishing Seminars\nFebruary 24           \n6 pm- Advanced Small and Large mouth Bass Tactics\n7 pm- Local Fishing Tips and Techniques\n8 pm- Side Imaging Sonar: How to Use It Effectively to Catch Fish\n\nContact information Elizabeth Ulloa mail to: eulloa@basspro.com
X-ALT-DESC;FMTTYPE=text/html:*Free Fishing Seminars\nFebruary 24           \n6 pm- Advanced Small and Large mouth Bass Tactics\n7 pm- Local Fishing Tips and Techniques\n8 pm- Side Imaging Sonar: How to Use It Effectively to Catch Fish\n\nContact information Elizabeth Ulloa mail to: eulloa@basspro.com
LOCATION:
UID:e.1828.3501
SEQUENCE:3
DTSTAMP:20260420T200818Z
URL:https://business.harlingen.com/events/details/free-fishing-seminars-bass-pro-shops-2012-spring-fishing-classics-02-24-2012-3501
END:VEVENT

END:VCALENDAR
