BEGIN:VCALENDAR
VERSION:2.0
PRODID:-//ChamberMaster//Event Calendar 2.0//EN
METHOD:PUBLISH
X-PUBLISHED-TTL:P3D
REFRESH-INTERVAL:P3D
CALSCALE:GREGORIAN
BEGIN:VEVENT
DTSTART;VALUE=DATE:20100118
DTEND;VALUE=DATE:20100119
TRANSP:TRANSPARENT
X-MICROSOFT-CDO-ALLDAYEVENT:TRUE
SUMMARY:FREE H1N1 Immunization
DESCRIPTION:Free H1N1 Immunization\n        At University Of Cosmetology Arts & Sciences \n    \n     \n    \n        Open to Students their Families & General Public \n    \n    \n        January 30\, 2010 from 10 AM to 2 PM \n    \n    \n         \n    \n    \n        Supported by Hidalgo & Cameron County Health Departments\n        \n    \n    \n        To Be Held at UCAS Campus\n\n        McAllen 8401 N.10th |  Harlingen 913 N. 13th \n    \n     \n    \n        Discounted Services Up to 50% off \n        \n\n        Financial Aid Available To Those Who Qualify\n        \n    \n    \n        $500 Dollar Scholarships awarded To Those Enrolling On This Day
X-ALT-DESC;FMTTYPE=text/html:<html xmlns:o= "urn:schemas-microsoft-com:office:office">\n<head>\n</head>\n<body>\n    <p class="Heading" style="MARGIN: 0in 0in 0pt">\n        <font face="Calibri"><font size="5"><strong><span style="COLOR: #a40800">Free H1N1 Immunization<o:p></o:p>\n        </span><span style="COLOR: #a40800">At University Of Cosmetology Arts &amp\; Sciences</span></strong></font><font size="4"> </font></font>\n    </p>\n    <span style="COLOR: #a40800"> \n    <p class="Subheading" style="MARGIN: 4pt 0in">\n        <font face="Calibri"><font size="4"><font color="#000000">Open to Students their Families &amp\; General Public</font> </font></font>\n    </p>\n    <p class="Subheading" style="MARGIN: 4pt 0in">\n        <font face="Calibri"><font size="4"><font color="#000000">January 30\, 2010 from 10 AM to 2 PM</font> </font></font>\n    </p>\n    <p class="FreeForm" style="MARGIN: 4pt 0in">\n        <span style="FONT-SIZE: 14pt\; mso-bidi-font-size: 10.0pt"><font color="#000000"></font></span><font face="Calibri" size="4"> </font>\n    </p>\n    <p class="FreeForm" style="MARGIN: 4pt 0in">\n        <span style="FONT-SIZE: 14pt\; mso-bidi-font-size: 10.0pt"><font face="Calibri" color="#000000" size="4">Supported by Hidalgo &amp\; Cameron County Health Departments<o:p></o:p>\n        </font></span>\n    </p>\n    <p class="FreeForm" style="MARGIN: 4pt 0in">\n        <font face="Calibri"><font size="4"><span style="FONT-SIZE: 14pt\; mso-bidi-font-size: 10.0pt"><font color="#000000">To Be Held at UCAS Campus<br />\n        McAllen 8401 N.10th |&nbsp\;</font></span><span style="FONT-SIZE: 14pt\; mso-bidi-font-size: 10.0pt"><font color="#000000"><span style="mso-spacerun: yes">&nbsp\;</span>Harlingen 913 N. 13th</font></span> </font></font>\n    </p>\n    <span style="FONT-SIZE: 14pt\; mso-bidi-font-size: 10.0pt"> \n    <p class="Title1" style="MARGIN: 0in 0in 0pt">\n        <span style="FONT-SIZE: 14pt\; COLOR: #a40800\; mso-bidi-font-size: 10.0pt"><font face="Calibri" size="4">Discounted Services Up to 50% off \n        <br />\n        Financial Aid Available To Those Who Qualify<o:p></o:p>\n        </font></span>\n    </p>\n    <p class="Title1" style="MARGIN: 0in 0in 0pt">\n        <font face="Calibri"><font size="4"><span style="FONT-SIZE: 14pt\; COLOR: #a40800\; mso-bidi-font-size: 10.0pt">$500 Dollar Scholarships awarded To Those Enrolling On This Day</span><span style="FONT-SIZE: 10pt\; COLOR: windowtext\; FONT-FAMILY: 'Times New Roman'\,'serif'\; mso-fareast-font-family: 'Times New Roman'\; mso-ansi-language: #0400\; mso-fareast-language: #0400\; mso-bidi-language: X-NONE"> \n        <o:p></o:p>\n        </span></font></font>\n    </p>\n    <p class="FreeForm" style="MARGIN: 4pt 0in">\n    </p>\n    </span>&nbsp\; \n    <p class="Subheading" style="MARGIN: 4pt 0in">\n    </p>\n    </span>\n</body>\n</html>\n
LOCATION:
UID:e.1828.2327
SEQUENCE:3
DTSTAMP:20260422T111604Z
URL:https://business.harlingen.com/events/details/free-h1n1-immunization-01-18-2010-2327
END:VEVENT

END:VCALENDAR
