BEGIN:VCALENDAR
VERSION:2.0
PRODID:-//ChamberMaster//Event Calendar 2.0//EN
METHOD:PUBLISH
X-PUBLISHED-TTL:P3D
REFRESH-INTERVAL:P3D
CALSCALE:GREGORIAN
BEGIN:VEVENT
DTSTART:20100918T140000Z
DTEND:20100918T170000Z
X-MICROSOFT-CDO-ALLDAYEVENT:FALSE
SUMMARY:FREE LEG SCREENING AT VBMC
DESCRIPTION:Do you have leg pain?  Are your feet cold or discolored?  If you exhibit any of these symptoms\, you may have Peripheral Vascular Disease – a circulatory disorder caused by build-up of fatty material within the vessels\, also called arteriosclerosis or hardening of the arteries.  September is National Peripheral Arterial Disease Awareness Month\, and Valley Baptist – Harlingen will be conducting free leg screenings in conjunction with the Legs for Life Campaign – a national screening program dedicated to improving the cardiovascular health of every community.  \nJoin us at the Wound Care Clinic on Saturday\, September 18th to receive your FREE LEG SCREENING.  Schedule your appointment today by calling (956) 542-5433.  RSVP required – appointments are limited.  Refreshments will be provided.
X-ALT-DESC;FMTTYPE=text/html:Do you have leg pain?  Are your feet cold or discolored?  If you exhibit any of these symptoms\, you may have Peripheral Vascular Disease – a circulatory disorder caused by build-up of fatty material within the vessels\, also called arteriosclerosis or hardening of the arteries.  September is National Peripheral Arterial Disease Awareness Month\, and Valley Baptist – Harlingen will be conducting free leg screenings in conjunction with the Legs for Life Campaign – a national screening program dedicated to improving the cardiovascular health of every community.  \nJoin us at the Wound Care Clinic on Saturday\, September 18th to receive your FREE LEG SCREENING.  Schedule your appointment today by calling (956) 542-5433.  RSVP required – appointments are limited.  Refreshments will be provided.\n \n\n\n\n\n
LOCATION:Located in the Medical Arts Pavilion
UID:e.1828.2722
SEQUENCE:3
DTSTAMP:20260421T223027Z
URL:https://business.harlingen.com/events/details/free-leg-screening-at-vbmc-09-18-2010-2722
END:VEVENT

END:VCALENDAR
