BEGIN:VCALENDAR
VERSION:2.0
PRODID:-//ChamberMaster//Event Calendar 2.0//EN
METHOD:PUBLISH
X-PUBLISHED-TTL:P3D
REFRESH-INTERVAL:P3D
CALSCALE:GREGORIAN
BEGIN:VEVENT
DTSTART:20111015T140000Z
DTEND:20111015T170000Z
X-MICROSOFT-CDO-ALLDAYEVENT:FALSE
SUMMARY:FREE PROSTATE CANCER SCREENING FOR VALLEY MEN THIS SATURDAY IN HARLINGEN
DESCRIPTION:PUBLIC  SERVICE  ANNOUNCEMENT   \n \nFREE  PROSTATE  CANCER  SCREENING  FOR  VALLEY  MEN  THIS  SATURDAY  IN  HARLINGEN  \n\nHARLINGEN -A free "Know Your Stats" prostate screening for Valley men will be held this Saturday\, Oct. 15 from 9 a.m. to 12 noon at Valley Baptist Medical Center-Harlingen\, Wound Care Center\, in the Valley Baptist Medical Arts Pavilion\, 2nd Floor (2121 Pease St.\, Entrance A\, Suite 201). \n\nThe screening includes a PSA (prostate-specific antigen) blood test and a DRE (digital rectal exam) with Dr. Manuel Espinoza\, Urologist. Refreshments will be provided\, but reservations are required by calling 1-888-902-5433.\n__________________________________________________________________\n\nBACKGROUND  INFORMATION  - KNOW  YOUR  STATS\n \nThe free "Know Your Stats" event is co-sponsored by the National Football League along with Valley Baptist and the American Urological Association Foundation.  The event\, open to all Valley residents\, is part of a national campaign by the NFL to encourage all men over 40 to talk with their doctors about their PSA (prostate-specific antigen) score and to get regular physical exams.\n\nProstate cancer is the second most common cancer in American men\, and one of the leading causes of cancer death among all men\, including Hispanics. Each year\, more than 240\,000 American men are diagnosed with prostate cancer - and more than 33\,000 of them die.  About 1 man in 6 will be diagnosed with prostate cancer during his lifetime\, according to the American Cancer Society.  More than 2 million men who have been diagnosed with prostate cancer are still alive today in the U.S.  About 1 man in 36 will die of prostate cancer.  The earlier that cancer is found\, the more effectively it can be treated - and the more likely the person will survive.    \n \n Contact:Teri Retana\, Asst. Vice President of Strategic Marketing & Communication\, Valley Baptist Health System\, Phone: (956) 389-1950 or 371-1017\, teri.retana@valleybaptist.net \, www.valleybaptist.net
X-ALT-DESC;FMTTYPE=text/html:PUBLIC  SERVICE  ANNOUNCEMENT   \n \nFREE  PROSTATE  CANCER  SCREENING  FOR  VALLEY  MEN  THIS  SATURDAY  IN  HARLINGEN  \n\nHARLINGEN -A free "Know Your Stats" prostate screening for Valley men will be held this Saturday\, Oct. 15 from 9 a.m. to 12 noon at Valley Baptist Medical Center-Harlingen\, Wound Care Center\, in the Valley Baptist Medical Arts Pavilion\, 2nd Floor (2121 Pease St.\, Entrance A\, Suite 201). \n\nThe screening includes a PSA (prostate-specific antigen) blood test and a DRE (digital rectal exam) with Dr. Manuel Espinoza\, Urologist. Refreshments will be provided\, but reservations are required by calling 1-888-902-5433.\n__________________________________________________________________\n\nBACKGROUND  INFORMATION  - KNOW  YOUR  STATS\n \nThe free "Know Your Stats" event is co-sponsored by the National Football League along with Valley Baptist and the American Urological Association Foundation.  The event\, open to all Valley residents\, is part of a national campaign by the NFL to encourage all men over 40 to talk with their doctors about their PSA (prostate-specific antigen) score and to get regular physical exams.\n\nProstate cancer is the second most common cancer in American men\, and one of the leading causes of cancer death among all men\, including Hispanics. Each year\, more than 240\,000 American men are diagnosed with prostate cancer - and more than 33\,000 of them die.  About 1 man in 6 will be diagnosed with prostate cancer during his lifetime\, according to the American Cancer Society.  More than 2 million men who have been diagnosed with prostate cancer are still alive today in the U.S.  About 1 man in 36 will die of prostate cancer.  The earlier that cancer is found\, the more effectively it can be treated - and the more likely the person will survive.    \n \n Contact:Teri Retana\, Asst. Vice President of Strategic Marketing & Communication\, Valley Baptist Health System\, Phone: (956) 389-1950 or 371-1017\, teri.retana@valleybaptist.net \, www.valleybaptist.net\n\n \n \n
LOCATION:
UID:e.1828.3196
SEQUENCE:3
DTSTAMP:20260421T035159Z
URL:https://business.harlingen.com/events/details/free-prostate-cancer-screening-for-valley-men-this-saturday-in-harlingen-10-15-2011-3196
END:VEVENT

END:VCALENDAR
