BEGIN:VCALENDAR
VERSION:2.0
PRODID:-//ChamberMaster//Event Calendar 2.0//EN
METHOD:PUBLISH
X-PUBLISHED-TTL:P3D
REFRESH-INTERVAL:P3D
CALSCALE:GREGORIAN
BEGIN:VEVENT
DTSTART:20100911T140000Z
DTEND:20100911T170000Z
X-MICROSOFT-CDO-ALLDAYEVENT:FALSE
SUMMARY:FREE Prostate Screenings
DESCRIPTION:Valley Baptist\, in partnership with The American Urological Association Foundation and the National Football League\, want you to Know Your Stats about prostate cancer. All men over 40 should talk with their doctors about their PSA (prostate-specific antigen) score and get regular physical exams.  Valley Baptist will be offering FREE prostate screenings (screening includes PSA [prostate-specific antigen] and DRE [digital rectal exam]) on Saturday\, September 11th.  Refreshments Provided.  RSVP required.  Please call (956) 542-5433 and make your reservation today.
X-ALT-DESC;FMTTYPE=text/html:Valley Baptist\, in partnership with The American Urological Association Foundation and the National Football League\, want you to Know Your Stats about prostate cancer. All men over 40 should talk with their doctors about their PSA (prostate-specific antigen) score and get regular physical exams.  Valley Baptist will be offering FREE prostate screenings (screening includes PSA [prostate-specific antigen] and DRE [digital rectal exam]) on Saturday\, September 11th.  Refreshments Provided.  RSVP required.  Please call (956) 542-5433 and make your reservation today.  \n \n
LOCATION:Medical Arts Pavilion\, Suite 3A
UID:e.1828.2720
SEQUENCE:3
DTSTAMP:20260421T222857Z
URL:https://business.harlingen.com/events/details/free-prostate-screenings-09-11-2010-2720
END:VEVENT

END:VCALENDAR
