BEGIN:VCALENDAR
VERSION:2.0
PRODID:-//ChamberMaster//Event Calendar 2.0//EN
METHOD:PUBLISH
X-PUBLISHED-TTL:P3D
REFRESH-INTERVAL:P3D
CALSCALE:GREGORIAN
BEGIN:VEVENT
DTSTART:20100915T190000Z
DTEND:20100915T210000Z
X-MICROSOFT-CDO-ALLDAYEVENT:FALSE
SUMMARY:FREE SEMINAR - ''7 Keys to Marketing Success''
DESCRIPTION:The ''7 Keys to Marketing Success'' will be held at the Chamber\, 311 E Tyler in Harlingen\, on September 15 from 2 pm to 4 pm.  Attendees will learn how to answer questions about potential customers and how to reach these customers using the right message.  \n\n''Small business owners really need to understand who their potential customers are and where to find them before they start spending money on trying to attract them. A great amount of marketing and advertising efforts is misspent because they are directed at individuals who are not potential customers.  Advertising and marketing\, while essential\, is too expensive to squander.'' said Colin Cain\, workshop presenter.\n\nPre-registration is required. To sign up for this free seminar or for further information\, please call the Chamber at (956) 423-5440.
X-ALT-DESC;FMTTYPE=text/html:The ''7 Keys to Marketing Success'' will be held at the Chamber\, 311 E Tyler in Harlingen\, on September 15 from 2 pm to 4 pm.  Attendees will learn how to answer questions about potential customers and how to reach these customers using the right message.  \n\n''Small business owners really need to understand who their potential customers are and where to find them before they start spending money on trying to attract them. A great amount of marketing and advertising efforts is misspent because they are directed at individuals who are not potential customers.  Advertising and marketing\, while essential\, is too expensive to squander.'' said Colin Cain\, workshop presenter.\n\nPre-registration is required. To sign up for this free seminar or for further information\, please call the Chamber at (956) 423-5440.   \n\n\n
LOCATION:
UID:e.1828.2662
SEQUENCE:3
DTSTAMP:20260422T002059Z
URL:https://business.harlingen.com/events/details/free-seminar-7-keys-to-marketing-success-09-15-2010-2662
END:VEVENT

END:VCALENDAR
