BEGIN:VCALENDAR
VERSION:2.0
PRODID:-//ChamberMaster//Event Calendar 2.0//EN
METHOD:PUBLISH
X-PUBLISHED-TTL:P3D
REFRESH-INTERVAL:P3D
CALSCALE:GREGORIAN
BEGIN:VEVENT
DTSTART:20100929T190000Z
DTEND:20100929T210000Z
X-MICROSOFT-CDO-ALLDAYEVENT:FALSE
SUMMARY:FREE SEMINAR - Contracting Business Certifications for HUB & 8(a) Programs
DESCRIPTION:Want to get into government contracting?  Does your business need to increase sales and grow? Then learn what it means to become a State of Texas HUB or SBA 8(a) firm!!\n\nDiscover how SBA 8a's Mentor Protégé Program can give your company the needed expertise in federal contracting! \n\nEncounter the process for becoming an 8a ''sole source'' firm and how to obtain ''set-aside'' contracts!\n\nUncover the means to increase your market share through State of Texas HUB Certification!!!!\n\nThe workshop is sponsored by the Rio South Texas Regional Procurement Technical Assistance Center (PTAC) and the Small Business Development Center (SBDC) at The University of Texas-Pan American.\n\nPTAC Interim Director Hector Landez encourages interested business owners to attend the workshop and get State HUB & 8(a) certified. The goal of these programs is to actively involve State HUBs and SBA 8a's in the procurement process and ensures that they receive a fair share of government contracts. '' he adds.  \n\nTo register for this free seminar\, please contact the Harlingen Area Chamber of Commerce at (956) 423-5440.
X-ALT-DESC;FMTTYPE=text/html:Want to get into government contracting?  Does your business need to increase sales and grow? Then learn what it means to become a State of Texas HUB or SBA 8(a) firm!!\n\nDiscover how SBA 8a's Mentor Protégé Program can give your company the needed expertise in federal contracting! \n\nEncounter the process for becoming an 8a ''sole source'' firm and how to obtain ''set-aside'' contracts!\n\nUncover the means to increase your market share through State of Texas HUB Certification!!!!\n\nThe workshop is sponsored by the Rio South Texas Regional Procurement Technical Assistance Center (PTAC) and the Small Business Development Center (SBDC) at The University of Texas-Pan American.\n\nPTAC Interim Director Hector Landez encourages interested business owners to attend the workshop and get State HUB & 8(a) certified. The goal of these programs is to actively involve State HUBs and SBA 8a's in the procurement process and ensures that they receive a fair share of government contracts. '' he adds.  \n\nTo register for this free seminar\, please contact the Harlingen Area Chamber of Commerce at (956) 423-5440. \n\n
LOCATION:
UID:e.1828.2663
SEQUENCE:3
DTSTAMP:20260422T001528Z
URL:https://business.harlingen.com/events/details/free-seminar-contracting-business-certifications-for-hub-8-a-programs-09-29-2010-2663
END:VEVENT

END:VCALENDAR
