BEGIN:VCALENDAR
VERSION:2.0
PRODID:-//ChamberMaster//Event Calendar 2.0//EN
METHOD:PUBLISH
X-PUBLISHED-TTL:P3D
REFRESH-INTERVAL:P3D
CALSCALE:GREGORIAN
BEGIN:VEVENT
DTSTART:20100721T190000Z
DTEND:20100721T210000Z
X-MICROSOFT-CDO-ALLDAYEVENT:FALSE
SUMMARY:FREE SEMINAR - Cost Management
DESCRIPTION:Business owners are invited to learn about costing and how this process influences strategic decisions over pricing and profitability.\n\nThe free seminar\, hosted by The University of Texas—Pan American's Veterans Business Outreach Center (VBOC) Project ASSIST II and the Small Business Development Center (SBDC) \, is scheduled for July 21st  from 2 to 4 pm at the Harlingen Area Chamber of Commerce\, located at 311 E. Tyler\, in Harlingen.  \n\nVOBC Business Advisor Carlos Gutierrez will guide small business owners through a broad-based analysis of cost management at the operational level.  The presentation will also include strategic tools for performance improvements. \n\n''Business owners should understand the importance of cost management and how their costing processes align with industry best practices.  Learning about emerging practices is also important for the performance improvement of any type of business\,'' shares Gutierrez.\n\nTo register for this seminar\, please call the Harlingen Area Chamber of Commerce at (956) 423-5440.
X-ALT-DESC;FMTTYPE=text/html:Business owners are invited to learn about costing and how this process influences strategic decisions over pricing and profitability.\n\nThe free seminar\, hosted by The University of Texas—Pan American's Veterans Business Outreach Center (VBOC) Project ASSIST II and the Small Business Development Center (SBDC) \, is scheduled for July 21st  from 2 to 4 pm at the Harlingen Area Chamber of Commerce\, located at 311 E. Tyler\, in Harlingen.  \n\nVOBC Business Advisor Carlos Gutierrez will guide small business owners through a broad-based analysis of cost management at the operational level.  The presentation will also include strategic tools for performance improvements. \n\n''Business owners should understand the importance of cost management and how their costing processes align with industry best practices.  Learning about emerging practices is also important for the performance improvement of any type of business\,'' shares Gutierrez.\n\nTo register for this seminar\, please call the Harlingen Area Chamber of Commerce at (956) 423-5440.  \n
LOCATION:Located at the corner of Tyler & 3rd Street
UID:e.1828.2578
SEQUENCE:3
DTSTAMP:20260422T015310Z
URL:https://business.harlingen.com/events/details/free-seminar-cost-management-07-21-2010-2578
END:VEVENT

END:VCALENDAR
