BEGIN:VCALENDAR
VERSION:2.0
PRODID:-//ChamberMaster//Event Calendar 2.0//EN
METHOD:PUBLISH
X-PUBLISHED-TTL:P3D
REFRESH-INTERVAL:P3D
CALSCALE:GREGORIAN
BEGIN:VEVENT
DTSTART:20101027T190000Z
DTEND:20101027T210000Z
X-MICROSOFT-CDO-ALLDAYEVENT:FALSE
SUMMARY:FREE SEMINAR - DOING BUSINESS WITH THE FEDERAL GOVERNMENT - HOW TO GET ON A GSA SCHEDULE
DESCRIPTION:DOING BUSINESS WITH THE FEDERAL GOVERNMENT HOW TO GET ON A GSA SCHEDULE.  Are you interested in obtaining a federal contract? Are you prepared to become a GSA Schedule Contractor? Learn more about government contracting at this free session! Procurement specialists will be available to answer all your business questions. TOPICS INCLUDE:Best Practices & Procedures on Becoming a GSA Schedule Contractor\nMarketing Products & Services to GSA. Details on Submitting Solicitation Offers and much more! FREE SEMINAR!\nRegistration required. RSVP TO (956) 423-5440 or the BDI Group at 956-665-7535
X-ALT-DESC;FMTTYPE=text/html:DOING BUSINESS WITH THE FEDERAL GOVERNMENT HOW TO GET ON A GSA SCHEDULE.  Are you interested in obtaining a federal contract? Are you prepared to become a GSA Schedule Contractor? Learn more about government contracting at this free session! Procurement specialists will be available to answer all your business questions. TOPICS INCLUDE:Best Practices & Procedures on Becoming a GSA Schedule Contractor\nMarketing Products & Services to GSA. Details on Submitting Solicitation Offers and much more! FREE SEMINAR!\nRegistration required. RSVP TO (956) 423-5440 or the BDI Group at 956-665-7535\n
LOCATION:
UID:e.1828.2764
SEQUENCE:3
DTSTAMP:20260421T204120Z
URL:https://business.harlingen.com/events/details/free-seminar-doing-business-with-the-federal-government-how-to-get-on-a-gsa-schedule-10-27-2010-2764
END:VEVENT

END:VCALENDAR
