BEGIN:VCALENDAR
VERSION:2.0
PRODID:-//ChamberMaster//Event Calendar 2.0//EN
METHOD:PUBLISH
X-PUBLISHED-TTL:P3D
REFRESH-INTERVAL:P3D
CALSCALE:GREGORIAN
BEGIN:VEVENT
DTSTART:20101020T133000Z
DTEND:20101020T170000Z
X-MICROSOFT-CDO-ALLDAYEVENT:FALSE
SUMMARY:FREE SEMINAR - Financial Boot Camp 201
DESCRIPTION:Small business owners are invited to attend a FREE SEMINAR on reading financial statements at the Harlingen Area Chamber of Commerce on October 20th  from 8:30 a.m. to 12 p.m.  \n\nThe ''Rio Grande Valley Financial Boot Camp 201'' teaches a business owner how to analyze Profit and Loss Statements\, Balance Sheet\, and Cash Flow Statements.  \n\nWorkshop facilitator and SBDC Business Advisor\, Cristina Cantu encourages existing business owners to attend this insightful seminar.  She adds\, ''It's important for business owners to understand their financial position.   This workshop provides them with the necessary tools to make sound\, financial decisions.'' \n\nPre-registration is required. To sign up for this seminar or for further information\, please call the Harlingen Area Chamber of Commerce at (956) 423-5440.
X-ALT-DESC;FMTTYPE=text/html:Small business owners are invited to attend a FREE SEMINAR on reading financial statements at the Harlingen Area Chamber of Commerce on October 20th  from 8:30 a.m. to 12 p.m.  \n\nThe ''Rio Grande Valley Financial Boot Camp 201'' teaches a business owner how to analyze Profit and Loss Statements\, Balance Sheet\, and Cash Flow Statements.  \n\nWorkshop facilitator and SBDC Business Advisor\, Cristina Cantu encourages existing business owners to attend this insightful seminar.  She adds\, ''It's important for business owners to understand their financial position.   This workshop provides them with the necessary tools to make sound\, financial decisions.'' \n\nPre-registration is required. To sign up for this seminar or for further information\, please call the Harlingen Area Chamber of Commerce at (956) 423-5440.\n\n\n
LOCATION:
UID:e.1828.2754
SEQUENCE:3
DTSTAMP:20260421T203525Z
URL:https://business.harlingen.com/events/details/free-seminar-financial-boot-camp-201-10-20-2010-2754
END:VEVENT

END:VCALENDAR
