BEGIN:VCALENDAR
VERSION:2.0
PRODID:-//ChamberMaster//Event Calendar 2.0//EN
METHOD:PUBLISH
X-PUBLISHED-TTL:P3D
REFRESH-INTERVAL:P3D
CALSCALE:GREGORIAN
BEGIN:VEVENT
DTSTART:20100121T140000Z
DTEND:20100121T220000Z
X-MICROSOFT-CDO-ALLDAYEVENT:FALSE
SUMMARY:FREE Seminar - How to do Business in the United States & Mexico
DESCRIPTION:The University of Texas at Brownsville and Texas Southmost College INTERNATIONAL TRADE CENTER invites you to attend a seminar on How to do Business in the United States & Mexico.  Morning session from 8:00 a.m. to 12:00 p.m.  and afternoon session from 1:30 p.m. to 4:00 p.m.  The seminar will be held in the Science\, Engineering & Technology Bldg. 3rd Floor Conference Room at UTB/TSC in Brownsville.  Free Registration.  Option 1: E-mail form to Diana.Gonzalez2@utb.edu.  Option 2: Call Diana Gonzalez at (956) 882-4233.  Option 3: Fax form to (956) 882-4227.  Option 4: Visit our location at ITEC Center 301 Mexico   Blvd. Suite F-6\, Brownsville\, TX 78520.
X-ALT-DESC;FMTTYPE=text/html:The University of Texas at Brownsville and Texas Southmost College INTERNATIONAL TRADE CENTER invites you to attend a seminar on How to do Business in the United States & Mexico.  Morning session from 8:00 a.m. to 12:00 p.m.  and afternoon session from 1:30 p.m. to 4:00 p.m.  The seminar will be held in the Science\, Engineering & Technology Bldg. 3rd Floor Conference Room at UTB/TSC in Brownsville.  Free Registration.  Option 1: E-mail form to Diana.Gonzalez2@utb.edu.  Option 2: Call Diana Gonzalez at (956) 882-4233.  Option 3: Fax form to (956) 882-4227.  Option 4: Visit our location at ITEC Center 301 Mexico   Blvd. Suite F-6\, Brownsville\, TX 78520.\n
LOCATION:Science\, Engineering & Technology Bldg. 3rd Floor Conference Room
UID:e.1828.2317
SEQUENCE:3
DTSTAMP:20260422T112609Z
URL:https://business.harlingen.com/events/details/free-seminar-how-to-do-business-in-the-united-states-mexico-01-21-2010-2317
END:VEVENT

END:VCALENDAR
