BEGIN:VCALENDAR
VERSION:2.0
PRODID:-//ChamberMaster//Event Calendar 2.0//EN
METHOD:PUBLISH
X-PUBLISHED-TTL:P3D
REFRESH-INTERVAL:P3D
CALSCALE:GREGORIAN
BEGIN:VEVENT
DTSTART:20110119T200000Z
DTEND:20110119T220000Z
X-MICROSOFT-CDO-ALLDAYEVENT:FALSE
SUMMARY:FREE SEMINAR-The Many Hats of Small Business Ownership
DESCRIPTION:How Business Owners Manage Business Resources\nThis free seminar describes the 4 resources a business owner manages-including employees\, explains the resource-based\, business strategy\, and niche-market identification. To RSVP please call Harlingen Chamber of Commerce 956-423-5440 or  956-665-7535.
X-ALT-DESC;FMTTYPE=text/html:How Business Owners Manage Business Resources\nThis free seminar describes the 4 resources a business owner manages-including employees\, explains the resource-based\, business strategy\, and niche-market identification. To RSVP please call Harlingen Chamber of Commerce 956-423-5440 or  956-665-7535.\n
LOCATION:
UID:e.1828.2873
SEQUENCE:3
DTSTAMP:20260421T155115Z
URL:https://business.harlingen.com/events/details/free-seminar-the-many-hats-of-small-business-ownership-01-19-2011-2873
END:VEVENT

END:VCALENDAR
