BEGIN:VCALENDAR
VERSION:2.0
PRODID:-//ChamberMaster//Event Calendar 2.0//EN
METHOD:PUBLISH
X-PUBLISHED-TTL:P3D
REFRESH-INTERVAL:P3D
CALSCALE:GREGORIAN
BEGIN:VEVENT
DTSTART:20100826T230000Z
DTEND:20100826T230000Z
X-MICROSOFT-CDO-ALLDAYEVENT:FALSE
SUMMARY:FREE Stryker Joint Pain Seminar
DESCRIPTION:Local orthopaedic surgeon Jose A. Cobos\, M.D. will discuss Arthritis of the Hip & Knee.  Topics include joint replacement & other available treatments.  Hors d'oeuvres will be served.  Space is limited\, so register today!  Call Letty Kretz at (956) 365-1066.
X-ALT-DESC;FMTTYPE=text/html:Local orthopaedic surgeon Jose A. Cobos\, M.D. will discuss Arthritis of the Hip & Knee.  Topics include joint replacement & other available treatments.  Hors d'oeuvres will be served.  Space is limited\, so register today!  Call Letty Kretz at (956) 365-1066.
LOCATION:
UID:e.1828.2665
SEQUENCE:3
DTSTAMP:20260422T001737Z
URL:https://business.harlingen.com/events/details/free-stryker-joint-pain-seminar-08-26-2010-2665
END:VEVENT

END:VCALENDAR
