BEGIN:VCALENDAR
VERSION:2.0
PRODID:-//ChamberMaster//Event Calendar 2.0//EN
METHOD:PUBLISH
X-PUBLISHED-TTL:P3D
REFRESH-INTERVAL:P3D
CALSCALE:GREGORIAN
BEGIN:VEVENT
DTSTART:20100310T200000Z
DTEND:20100310T220000Z
X-MICROSOFT-CDO-ALLDAYEVENT:FALSE
SUMMARY:FREE TAX SEMINAR FOR SMALL BUSINESSES
DESCRIPTION:To help business owners prepare for the tax season\, H&R Block will present a free tax seminar for small businesses on March 10 from 2 pm to 4 pm at the Harlingen Area Chamber of Commerce.  ''Tax Tips for Small Businesses\,'' a seminar sponsored by the Chamber as well as the UTPA Small Business Development Center (SBDC)\, teaches business owners how to better manage their small business expenses when filing their taxes.  H&R Block tax expert Joseph Anthony will also be on hand to answer individual questions from small business owners.  ''It's tax time again\, and many business owners may have concerns over small business expenses.  Minimizing tax liabilities and taking advantage of tax incentives are vitally crucial to business success\, especially for the small business owner. This is an opportune time to ask questions from an H&R Block tax specialist\,'' encourages Cristina Cantu\, SBDC Business Advisor.  To register for this seminar\, please contact the chamber at (956) 423-5440.
X-ALT-DESC;FMTTYPE=text/html:To help business owners prepare for the tax season\, H&R Block will present a free tax seminar for small businesses on March 10 from 2 pm to 4 pm at the Harlingen Area Chamber of Commerce.  ''Tax Tips for Small Businesses\,'' a seminar sponsored by the Chamber as well as the UTPA Small Business Development Center (SBDC)\, teaches business owners how to better manage their small business expenses when filing their taxes.  H&R Block tax expert Joseph Anthony will also be on hand to answer individual questions from small business owners.  ''It's tax time again\, and many business owners may have concerns over small business expenses.  Minimizing tax liabilities and taking advantage of tax incentives are vitally crucial to business success\, especially for the small business owner. This is an opportune time to ask questions from an H&R Block tax specialist\,'' encourages Cristina Cantu\, SBDC Business Advisor.  To register for this seminar\, please contact the chamber at (956) 423-5440.\n
LOCATION:
UID:e.1828.2411
SEQUENCE:3
DTSTAMP:20260422T081109Z
URL:https://business.harlingen.com/events/details/free-tax-seminar-for-small-businesses-03-10-2010-2411
END:VEVENT

END:VCALENDAR
