BEGIN:VCALENDAR
VERSION:2.0
PRODID:-//ChamberMaster//Event Calendar 2.0//EN
METHOD:PUBLISH
X-PUBLISHED-TTL:P3D
REFRESH-INTERVAL:P3D
CALSCALE:GREGORIAN
BEGIN:VEVENT
DTSTART:20110720T140000Z
DTEND:20110720T160000Z
X-MICROSOFT-CDO-ALLDAYEVENT:FALSE
SUMMARY:FREE Wage & Hour Seminar
DESCRIPTION:Is your small business in compliance?  \nSmall business owners are invited to attend a FREE Wage & Hour seminar.  \nThe workshop is designed to give business owners a better understanding of labor laws.US Department of Labor Wage & Hour representative will discuss the applicability of federal labor laws including record keeping\, Minimum Wage and Overtime requirements.\n \nPre-registration is required. To sign up for this seminar or for further information\, please call SBDC at (956) 665-7535 or the Harlingen  Chamber at (956) 423-5440.
X-ALT-DESC;FMTTYPE=text/html:Is your small business in compliance?  \nSmall business owners are invited to attend a FREE Wage & Hour seminar.  \nThe workshop is designed to give business owners a better understanding of labor laws.US Department of Labor Wage & Hour representative will discuss the applicability of federal labor laws including record keeping\, Minimum Wage and Overtime requirements.\n \nPre-registration is required. To sign up for this seminar or for further information\, please call SBDC at (956) 665-7535 or the Harlingen  Chamber at (956) 423-5440.  \n   \n
LOCATION:
UID:e.1828.3096
SEQUENCE:3
DTSTAMP:20260421T063912Z
URL:https://business.harlingen.com/events/details/free-wage-hour-seminar-07-20-2011-3096
END:VEVENT

END:VCALENDAR
