BEGIN:VCALENDAR
VERSION:2.0
PRODID:-//ChamberMaster//Event Calendar 2.0//EN
METHOD:PUBLISH
X-PUBLISHED-TTL:P3D
REFRESH-INTERVAL:P3D
CALSCALE:GREGORIAN
BEGIN:VEVENT
DTSTART:20091118T143000Z
DTEND:20091118T180000Z
X-MICROSOFT-CDO-ALLDAYEVENT:FALSE
SUMMARY:''FREE'' Workshop ''Customer Service & Phone Etiquette" & "Making Your Emotions Work For You and Not Against You''
DESCRIPTION:Principles of Excellence Consulting Group Is Offering the Community a ''FREE'' Workshop ''Customer Service & Phone Etiquette & Making your Emotions Work For You and Not Against You.''  Are your employees going to make a good or a bad impression for your business? With the holidays upon us\, customer service and telephone etiquette has never been more important.  Emotions are running high…Good & Bad!  Learn to manage and understand your emotions so there will be harmony in your business and life.  Make Plans to Attend this Business & Life-Changing Workshop! Wednesday\, November 18\, 2009 from 8:30 a.m. – 12:00 p.m. at the \nHarlingen Area Chamber of Commerce\, 311 East Tyler in Harlingen.  Registration Fee - FREE!  Doors Open at 8:00!  *Seating is limited - 1st come basis*  For More Information Contact:  Kathy Payton\, CPNLP at 945.245.3433 or Deborah Cortez\, RN\,CPNLP at 956.536.7729 or e-mail us at principlesofexcellence@gmail.com
X-ALT-DESC;FMTTYPE=text/html:Principles of Excellence Consulting Group Is Offering the Community a ''FREE'' Workshop ''Customer Service & Phone Etiquette & Making your Emotions Work For You and Not Against You.''  Are your employees going to make a good or a bad impression for your business? With the holidays upon us\, customer service and telephone etiquette has never been more important.  Emotions are running high…Good & Bad!  Learn to manage and understand your emotions so there will be harmony in your business and life.  Make Plans to Attend this Business & Life-Changing Workshop! Wednesday\, November 18\, 2009 from 8:30 a.m. – 12:00 p.m. at the \nHarlingen Area Chamber of Commerce\, 311 East Tyler in Harlingen.  Registration Fee - FREE!  Doors Open at 8:00!  *Seating is limited - 1st come basis*  For More Information Contact:  Kathy Payton\, CPNLP at 945.245.3433 or Deborah Cortez\, RN\,CPNLP at 956.536.7729 or e-mail us at principlesofexcellence@gmail.com\n
LOCATION:
UID:e.1828.2200
SEQUENCE:3
DTSTAMP:20260422T130549Z
URL:https://business.harlingen.com/events/details/free-workshop-customer-service-phone-etiquette-making-your-emotions-work-for-you-and-not-against-you-11-18-2009-2200
END:VEVENT

END:VCALENDAR
