BEGIN:VCALENDAR
VERSION:2.0
PRODID:-//ChamberMaster//Event Calendar 2.0//EN
METHOD:PUBLISH
X-PUBLISHED-TTL:P3D
REFRESH-INTERVAL:P3D
CALSCALE:GREGORIAN
BEGIN:VEVENT
DTSTART:20110513T140000Z
DTEND:20110513T150000Z
X-MICROSOFT-CDO-ALLDAYEVENT:FALSE
SUMMARY:Friday's Informational Workshop
DESCRIPTION:SBA's FREE Informational Workshop\nThe U.S. Small Business Administration (SBA conducts a free     informational workshop every Friday for startup or existing small businesses.  \nCome learn about SBA loan eligibility\, current popular SBA loans\, and how you can receive free technical assistance from SCORE\, SBDC\, and our many other resource partners.
X-ALT-DESC;FMTTYPE=text/html:SBA's FREE Informational Workshop\nThe U.S. Small Business Administration (SBA conducts a free     informational workshop every Friday for startup or existing small businesses.  \nCome learn about SBA loan eligibility\, current popular SBA loans\, and how you can receive free technical assistance from SCORE\, SBDC\, and our many other resource partners.\n
LOCATION:Lower Rio Grande Valley District Office 222 E. Van Buren St.\, Suite 500 Bank of America Bldg.\, 5th Floor Harlingen\, TX 78550
UID:e.1828.3249
SEQUENCE:3
DTSTAMP:20260421T110737Z
URL:https://business.harlingen.com/events/details/friday-s-informational-workshop-05-13-2011-3249
END:VEVENT

END:VCALENDAR
