BEGIN:VCALENDAR
VERSION:2.0
PRODID:-//ChamberMaster//Event Calendar 2.0//EN
METHOD:PUBLISH
X-PUBLISHED-TTL:P3D
REFRESH-INTERVAL:P3D
CALSCALE:GREGORIAN
BEGIN:VEVENT
DTSTART:20091014T233000Z
DTEND:20091014T233000Z
X-MICROSOFT-CDO-ALLDAYEVENT:FALSE
SUMMARY:Frontera Quilt Guild 9th Birthday Celebration
DESCRIPTION:Please join the Frontera Quilt Guild Inc. as we celebrate our 9th birthday\, on Monday\, October 14\, 2009 at\nEncore Sunshine RV Park in the Community Bldg on the Lake.  For information\, please contact:  Juana Simmons\, President at 956-399-2173 or Jan Beaman\, V. President 956-357-8775.
X-ALT-DESC;FMTTYPE=text/html:Please join the Frontera Quilt Guild Inc. as we celebrate our 9th birthday\, on Monday\, October 14\, 2009 at\nEncore Sunshine RV Park in the Community Bldg on the Lake.  For information\, please contact:  Juana Simmons\, President at 956-399-2173 or Jan Beaman\, V. President 956-357-8775.
LOCATION:
UID:e.1828.2076
SEQUENCE:3
DTSTAMP:20260422T111725Z
URL:https://business.harlingen.com/events/details/frontera-quilt-guild-9th-birthday-celebration-10-14-2009-2076
END:VEVENT

END:VCALENDAR
