BEGIN:VCALENDAR
VERSION:2.0
PRODID:-//ChamberMaster//Event Calendar 2.0//EN
METHOD:PUBLISH
X-PUBLISHED-TTL:P3D
REFRESH-INTERVAL:P3D
CALSCALE:GREGORIAN
BEGIN:VEVENT
DTSTART:20100408T233000Z
DTEND:20100408T233000Z
X-MICROSOFT-CDO-ALLDAYEVENT:FALSE
SUMMARY:FRONTERA QUILT GUILD MEET THE QUILTERS
DESCRIPTION:FRONTERA QUILT GUILD MEET THE QUILTERS NINFA VILLARREAL AND LYNN JOHNSON THESE TWO LADIES WILL SHARE WITH OUR GROUP A SAMPLING OF THEIR QUILTING LIVES. BOTH LADIES LOVE APPLIQUE!  COME AND ENJOY A SHOW OF THEIR VARIOUS PROJECTS.  MONDAY\, APRIL\, 8TH \, 2010  AT ENCORE RV PARK\, HARLINGEN\, TX COMMUNITY BLDG ON THE LAKE Meeting Begins at 6:30 PM.  For information\, please contact Juana Simmons 956-399-2173 or Jan Beaman\, V. President 956-357-8775.  Visit the website at ww.fronteraquiltguild.blogspot.com.
X-ALT-DESC;FMTTYPE=text/html:FRONTERA QUILT GUILD MEET THE QUILTERS NINFA VILLARREAL AND LYNN JOHNSON THESE TWO LADIES WILL SHARE WITH OUR GROUP A SAMPLING OF THEIR QUILTING LIVES. BOTH LADIES LOVE APPLIQUE!  COME AND ENJOY A SHOW OF THEIR VARIOUS PROJECTS.  MONDAY\, APRIL\, 8TH \, 2010  AT ENCORE RV PARK\, HARLINGEN\, TX COMMUNITY BLDG ON THE LAKE Meeting Begins at 6:30 PM.  For information\, please contact Juana Simmons 956-399-2173 or Jan Beaman\, V. President 956-357-8775.  Visit the website at ww.fronteraquiltguild.blogspot.com.
LOCATION:
UID:e.1828.2433
SEQUENCE:3
DTSTAMP:20260422T061709Z
URL:https://business.harlingen.com/events/details/frontera-quilt-guild-meet-the-quilters-04-08-2010-2433
END:VEVENT

END:VCALENDAR
