BEGIN:VCALENDAR
VERSION:2.0
PRODID:-//ChamberMaster//Event Calendar 2.0//EN
METHOD:PUBLISH
X-PUBLISHED-TTL:P3D
REFRESH-INTERVAL:P3D
CALSCALE:GREGORIAN
BEGIN:VEVENT
DTSTART:20091110T003000Z
DTEND:20091110T003000Z
X-MICROSOFT-CDO-ALLDAYEVENT:FALSE
SUMMARY:FRONTERA QUILT GUILD PRESENTS SUE SPARGO - WOOL APPLIQUE ARTIST
DESCRIPTION:Monday\, Nov. 9\, 2009 at ENCORE RV PARK COMMUNITY BLDG ON THE LAKE.  Meeting begins at 6:30 PM.  $5.00 Cover Charge for Non-Members.  For information\, please contact Juana Simmons at  956-399-2173 or Jan Beaman\, Vice President at 956-357-8775. Visit Sue's website at www.suespargo.com.
X-ALT-DESC;FMTTYPE=text/html:Monday\, Nov. 9\, 2009 at ENCORE RV PARK COMMUNITY BLDG ON THE LAKE.  Meeting begins at 6:30 PM.  $5.00 Cover Charge for Non-Members.  For information\, please contact Juana Simmons at  956-399-2173 or Jan Beaman\, Vice President at 956-357-8775. Visit Sue's website at www.suespargo.com.\n
LOCATION:
UID:e.1828.2165
SEQUENCE:3
DTSTAMP:20260422T144254Z
URL:https://business.harlingen.com/events/details/frontera-quilt-guild-presents-sue-spargo-wool-applique-artist-11-09-2009-2165
END:VEVENT

END:VCALENDAR
