BEGIN:VCALENDAR
VERSION:2.0
PRODID:-//ChamberMaster//Event Calendar 2.0//EN
METHOD:PUBLISH
X-PUBLISHED-TTL:P3D
REFRESH-INTERVAL:P3D
CALSCALE:GREGORIAN
BEGIN:VEVENT
DTSTART:20090914T233000Z
DTEND:20090914T233000Z
X-MICROSOFT-CDO-ALLDAYEVENT:FALSE
SUMMARY:Frontera Quilting Guild Meeting
DESCRIPTION:The Fancy Stitchers persent Crazy Quilting & More.  There will be hands-on stitching\, so bring your scissors!  For more information\, please contact Juana Simmons at 956-399-2173 or Jan Beaman at 956-357-8775.
X-ALT-DESC;FMTTYPE=text/html:The Fancy Stitchers persent Crazy Quilting & More.  There will be hands-on stitching\, so bring your scissors!  For more information\, please contact Juana Simmons at 956-399-2173 or Jan Beaman at 956-357-8775.
LOCATION:
UID:e.1828.2017
SEQUENCE:3
DTSTAMP:20260422T093539Z
URL:https://business.harlingen.com/events/details/frontera-quilting-guild-meeting-09-14-2009-2017
END:VEVENT

END:VCALENDAR
