BEGIN:VCALENDAR
VERSION:2.0
PRODID:-//ChamberMaster//Event Calendar 2.0//EN
METHOD:PUBLISH
X-PUBLISHED-TTL:P3D
REFRESH-INTERVAL:P3D
CALSCALE:GREGORIAN
BEGIN:VEVENT
DTSTART;VALUE=DATE:20100809
DTEND;VALUE=DATE:20100810
TRANSP:TRANSPARENT
X-MICROSOFT-CDO-ALLDAYEVENT:TRUE
SUMMARY:Frontier Quilting Guild
DESCRIPTION:The Fancy Stitchers persent Crazy Quilting & More. There will be hands-on stitching\, so bring your scissors! For more information\, please contact Juana Simmons at 956-399-2173 or Jan Beaman at 956-357-8775.
X-ALT-DESC;FMTTYPE=text/html:The Fancy Stitchers persent Crazy Quilting & More. There will be hands-on stitching\, so bring your scissors! For more information\, please contact Juana Simmons at 956-399-2173 or Jan Beaman at 956-357-8775. \n\n\n\n \n
LOCATION:Park Pavilion
UID:e.1828.2564
SEQUENCE:3
DTSTAMP:20260422T000548Z
URL:https://business.harlingen.com/events/details/frontier-quilting-guild-08-09-2010-2564
END:VEVENT

END:VCALENDAR
