BEGIN:VCALENDAR
VERSION:2.0
PRODID:-//ChamberMaster//Event Calendar 2.0//EN
METHOD:PUBLISH
X-PUBLISHED-TTL:P3D
REFRESH-INTERVAL:P3D
CALSCALE:GREGORIAN
BEGIN:VEVENT
DTSTART:20091030T000000Z
DTEND:20091030T020000Z
X-MICROSOFT-CDO-ALLDAYEVENT:FALSE
SUMMARY:Gallery 218 Presents "Dia De Los Muertos" Reception
DESCRIPTION:Gallery 218 to celebrate opening with a ribbon cutting celebration \n        \n        \n    \n    \n         \n        \n    \n    \n        The Harlingen Area Chamber Ambassadors along with the Gallery 218 invite you to celebrate the opening of their art studio along with the opening of the art exhibit  "Dia De Los Muertos: A Diverse Perception of Life and Death\,"  \n    \n    \n         \n    \n    \n        Thursday\, October 29\, 2009 \n    \n    \n        Ribbon cutting at 5:30 with the art exhibit to be open to the public from 7pm to 9pm at Gallery 218 in downtown Harlingen\; 218 W. Jackson\n\n        \n\n        As patrons flow into Gallery 218\, during the exhibition\, they will find themselves with a reflective suite of prints organized by a long time colleague of Benjamin Varela\, Rene Hugo Arceo\, of Chicago\, Illinois.  The print suite includes a national and international array of artists from the United States\; Mexico\, France\, Canada\, and Spain.  Refresments will be served.\n\n        \n\n        For additional information about Gallery 218\, contact Maggie Rodriguez\, PR Director\, at 281-777-9260/ 956-534-7978 or email at gallery218@gmail.com. \n        \n\n        \n\n        Open to the public. Free admission. Click here to view Gallery 218 Press Release
X-ALT-DESC;FMTTYPE=text/html:<html xmlns:o= "urn:schemas-microsoft-com:office:office">\n<head>\n    <link href="http://harlingentxcoc.weblinkconnect.com/CWT/External/WCControls/WCControls.css" type="text/css" rel="Stylesheet" />\n</head>\n<body class="GeneralBody">\n    <p class="MsoNormal" style="MARGIN: 0in 0in 0pt">\n        <span style="FONT-SIZE: 18pt\; COLOR: #bb422b\; FONT-FAMILY: 'Arial Narrow'\,'sans-serif'\; mso-bidi-font-family: Arial">Gallery 218&nbsp\;to celebrate opening with a ribbon cutting celebration</span><span style="FONT-SIZE: 10pt\; COLOR: #857458\; FONT-FAMILY: 'Arial'\,'sans-serif'"> \n        <o:p></o:p>\n        </span>\n    </p>\n    <p class="MsoNormal" style="MARGIN: 0in 0in 0pt">\n        <span style="FONT-SIZE: 10pt\; COLOR: #857458\; FONT-FAMILY: 'Arial'\,'sans-serif'">&nbsp\;<o:p></o:p>\n        </span>\n    </p>\n    <p class="MsoNormal" style="MARGIN: 0in 0in 0pt">\n        <span style="FONT-SIZE: 10pt\; COLOR: #857458\; FONT-FAMILY: 'Arial'\,'sans-serif'">The Harlingen Area Chamber Ambassadors&nbsp\;along with the Gallery 218&nbsp\;invite you to&nbsp\;celebrate the opening of their art studio along with the opening of the art exhibit&nbsp\; "Dia De Los Muertos: A Diverse Perception of Life and Death\,"&nbsp\;</span> \n    </p>\n    <p class="MsoNormal" style="MARGIN: 0in 0in 0pt">\n        <span style="FONT-SIZE: 10pt\; COLOR: #857458\; FONT-FAMILY: 'Arial'\,'sans-serif'"></span> \n    </p>\n    <p class="MsoNormal" style="MARGIN: 0in 0in 0pt">\n        <span style="FONT-SIZE: 10pt\; COLOR: #857458\; FONT-FAMILY: 'Arial'\,'sans-serif'"></span><strong><span style="FONT-SIZE: 10pt\; COLOR: #857458\; FONT-FAMILY: 'Arial'\,'sans-serif'">Thursday\, October 29\, 2009</span></strong> \n    </p>\n    <p class="MsoNormal" style="MARGIN: 0in 0in 0pt">\n        <strong><span style="FONT-SIZE: 10pt\; COLOR: #857458\; FONT-FAMILY: 'Arial'\,'sans-serif'"></span></strong><strong><span style="FONT-SIZE: 10pt\; COLOR: #857458\; FONT-FAMILY: 'Arial'\,'sans-serif'">Ribbon cutting at 5:30 with the art exhibit to&nbsp\;be open to the public&nbsp\;from 7pm to 9pm at Gallery 218 in downtown Harlingen\; 218 W. Jackson<br />\n        <br />\n        </span></strong><span style="FONT-SIZE: 10pt\; COLOR: #857458\; FONT-FAMILY: 'Arial'\,'sans-serif'">As patrons flow into Gallery 218\, during the exhibition\, they will find themselves with a reflective suite of prints organized by a long time colleague of Benjamin Varela\, Rene Hugo Arceo\, of Chicago\, Illinois. &nbsp\;The print suite includes a national and international array of artists from the United States\; Mexico\, France\, Canada\, and Spain.&nbsp\;&nbsp\;Refresments will be served.<br />\n        <br />\n        F</span><span style="FONT-SIZE: 10pt\; COLOR: #857458\; FONT-FAMILY: 'Arial'\,'sans-serif'\; mso-fareast-font-family: 'Times New Roman'\; mso-ansi-language: EN-US\; mso-fareast-language: EN-US\; mso-bidi-language: AR-SA">or additional information about Gallery 218\, contact Maggie Rodriguez\, PR Director\, at 281-777-9260/ 956-534-7978 or email at <a href="mailto:gallery218@gmail.com" target="_blank" shape="rect">gallery218@gmail.com</a>.</span> \n        <br />\n        <br />\n        <font face="Agency FB" size="4">Open to the public. Free admission. </font><a href="http://harlingentxcoc.weblinkconnect.com/cwt/external/wcpages/wcwebcontent/webcontentpage.aspx?contentid=130"><font face="Agency FB" size="4">Click here to view Gallery 218 Press Release</font></a> \n    </p>\n</body>\n</html>\n
LOCATION:
UID:e.1828.2167
SEQUENCE:3
DTSTAMP:20260422T112004Z
URL:https://business.harlingen.com/events/details/gallery-218-presents-dia-de-los-muertos-reception-10-29-2009-2167
END:VEVENT

END:VCALENDAR
