BEGIN:VCALENDAR
VERSION:2.0
PRODID:-//ChamberMaster//Event Calendar 2.0//EN
METHOD:PUBLISH
X-PUBLISHED-TTL:P3D
REFRESH-INTERVAL:P3D
CALSCALE:GREGORIAN
BEGIN:VEVENT
DTSTART:20100916T223000Z
DTEND:20100916T223000Z
X-MICROSOFT-CDO-ALLDAYEVENT:FALSE
SUMMARY:Garabato's Grill and Valley Business Report's Business After Hours Mixer and Ribbon Cuttings
DESCRIPTION:Join Garabato's Grill as they celebrate their grand opening with a Ribbon Cutting and Valley Business Report as they mark their First Anniversary with a Business After Hours Mixer.  Thursday\, Sept. 16\, 2010 starting at 5:30 pm.
X-ALT-DESC;FMTTYPE=text/html:Join Garabato's Grill as they celebrate their grand opening with a Ribbon Cutting and Valley Business Report as they mark their First Anniversary with a Business After Hours Mixer.  Thursday\, Sept. 16\, 2010 starting at 5:30 pm.\n
LOCATION:
UID:e.1828.2749
SEQUENCE:3
DTSTAMP:20260422T002356Z
URL:https://business.harlingen.com/events/details/garabato-s-grill-and-valley-business-report-s-business-after-hours-mixer-and-ribbon-cuttings-09-16-2010-2749
END:VEVENT

END:VCALENDAR
