BEGIN:VCALENDAR
VERSION:2.0
PRODID:-//ChamberMaster//Event Calendar 2.0//EN
METHOD:PUBLISH
X-PUBLISHED-TTL:P3D
REFRESH-INTERVAL:P3D
CALSCALE:GREGORIAN
BEGIN:VEVENT
DTSTART:20100130T140000Z
DTEND:20100130T140000Z
X-MICROSOFT-CDO-ALLDAYEVENT:FALSE
SUMMARY:Garage Sale
DESCRIPTION:Garage sale at the LARGEST RV Resort in Texas!! \nFunNSun RV Resort in San Benito. Jan. 30th\, 2010
X-ALT-DESC;FMTTYPE=text/html:Garage sale at the LARGEST RV Resort in Texas!! \nFunNSun RV Resort in San Benito. Jan. 30th\, 2010
LOCATION:FunNSun RV Resort off 509 south Paso Real Exit\, San Benito
UID:e.1828.2239
SEQUENCE:3
DTSTAMP:20260422T111658Z
URL:https://business.harlingen.com/events/details/garage-sale-01-30-2010-2239
END:VEVENT

END:VCALENDAR
