BEGIN:VCALENDAR
VERSION:2.0
PRODID:-//ChamberMaster//Event Calendar 2.0//EN
METHOD:PUBLISH
X-PUBLISHED-TTL:P3D
REFRESH-INTERVAL:P3D
CALSCALE:GREGORIAN
BEGIN:VEVENT
DTSTART:20100330T230000Z
DTEND:20100414T003000Z
X-MICROSOFT-CDO-ALLDAYEVENT:FALSE
SUMMARY:Get Golf Ready in 5 Days!
DESCRIPTION:For information on Golf Lessons at Harlingen Country Club\, please email head golf pro\, Michael Fernuik\, at mhf@bizrgv.rr.com.  Register online at www.playgolfamerica.com.  Lessons for adults 18 & over only.  Lessons held Tuesdays & Thursdays from 6 pm to 7:30 pm.  5-day schedule for March 30\, April 1\, April 6\, April 8 and April 13.  Give us 5 days & we'll give you a sport for a lifetime!
X-ALT-DESC;FMTTYPE=text/html:For information on Golf Lessons at Harlingen Country Club\, please email head golf pro\, Michael Fernuik\, at mhf@bizrgv.rr.com.  Register online at www.playgolfamerica.com.  Lessons for adults 18 & over only.  Lessons held Tuesdays & Thursdays from 6 pm to 7:30 pm.  5-day schedule for March 30\, April 1\, April 6\, April 8 and April 13.  Give us 5 days & we'll give you a sport for a lifetime!
LOCATION:
UID:e.1828.2447
SEQUENCE:3
DTSTAMP:20260422T061402Z
URL:https://business.harlingen.com/events/details/get-golf-ready-in-5-days-03-30-2010-2447
END:VEVENT

END:VCALENDAR
