BEGIN:VCALENDAR
VERSION:2.0
PRODID:-//ChamberMaster//Event Calendar 2.0//EN
METHOD:PUBLISH
X-PUBLISHED-TTL:P3D
REFRESH-INTERVAL:P3D
CALSCALE:GREGORIAN
BEGIN:VEVENT
DTSTART:20100615T230000Z
DTEND:20100630T003000Z
X-MICROSOFT-CDO-ALLDAYEVENT:FALSE
SUMMARY:Get Golf Ready In 5 Days!
DESCRIPTION:Get Golf Ready In 5 Days! June is Women's Golf Month. Get Golf Ready is for Women Only. Tues & Thurs from 6 pm - 7:30 pm at Harlingen Country Club. Dates are June 15\, 17\, 22\, 24 & 29. Cost is $99. For more info. and to register go to www.getgolfready.com
X-ALT-DESC;FMTTYPE=text/html:Get Golf Ready In 5 Days! June is Women's Golf Month. Get Golf Ready is for Women Only. Tues & Thurs from 6 pm - 7:30 pm at Harlingen Country Club. Dates are June 15\, 17\, 22\, 24 & 29. Cost is $99. For more info. and to register go to www.getgolfready.com
LOCATION:
UID:e.1828.2548
SEQUENCE:3
DTSTAMP:20260422T031021Z
URL:https://business.harlingen.com/events/details/get-golf-ready-in-5-days-06-15-2010-2548
END:VEVENT

END:VCALENDAR
