BEGIN:VCALENDAR
VERSION:2.0
PRODID:-//ChamberMaster//Event Calendar 2.0//EN
METHOD:PUBLISH
X-PUBLISHED-TTL:P3D
REFRESH-INTERVAL:P3D
CALSCALE:GREGORIAN
BEGIN:VEVENT
DTSTART:20101118T233000Z
DTEND:20101119T013000Z
X-MICROSOFT-CDO-ALLDAYEVENT:FALSE
SUMMARY:Get Involved Get Results Mixer
DESCRIPTION:A Civic Networking Mixer Hosted by Junior League of Harlingen.  Come attend and enjoy an evening of exploring potential alliances and opportunities with our local community non-profit organizations. \n\nSponsored by The Cellar Fine Wine & Spirits\, Shannon Sparks - Coldwell Banker Impact Properties\, First Community Bank and Smith - Reagan Insurance.\n\nIf you have a non-profit organization you would like to showcase please call Mia de la Garza Fields at Bahnman Realty 956-423-3488 ext. 111 or e-mail\, mia@bahnmanrealty.com
X-ALT-DESC;FMTTYPE=text/html:A Civic Networking Mixer Hosted by Junior League of Harlingen.  Come attend and enjoy an evening of exploring potential alliances and opportunities with our local community non-profit organizations. \n\nSponsored by The Cellar Fine Wine & Spirits\, Shannon Sparks - Coldwell Banker Impact Properties\, First Community Bank and Smith - Reagan Insurance.\n\nIf you have a non-profit organization you would like to showcase please call Mia de la Garza Fields at Bahnman Realty 956-423-3488 ext. 111 or e-mail\, mia@bahnmanrealty.com\n\n\n\n\n\n\n\n\n 
LOCATION:
UID:e.1828.2619
SEQUENCE:3
DTSTAMP:20260421T185939Z
URL:https://business.harlingen.com/events/details/get-involved-get-results-mixer-11-18-2010-2619
END:VEVENT

END:VCALENDAR
