BEGIN:VCALENDAR
VERSION:2.0
PRODID:-//ChamberMaster//Event Calendar 2.0//EN
METHOD:PUBLISH
X-PUBLISHED-TTL:P3D
REFRESH-INTERVAL:P3D
CALSCALE:GREGORIAN
BEGIN:VEVENT
DTSTART:20120529T190000Z
DTEND:20120529T200000Z
X-MICROSOFT-CDO-ALLDAYEVENT:FALSE
SUMMARY:Get Tips on Protecting Your Business this Hurricane Season.
DESCRIPTION:Get Tips on Protecting Your Business this Hurricane Season. With Hurricane Season beginning June 1st\, a free webinar hosted by Agility Recovery Solutions and SBA is scheduled for \nMay 29\, 2012 from 2:00 p.m. to 3:00 p.m. EDT.  The webinar will feature Dr. Gerry Bell of the National Oceanic and Atmospheric Administration\, the lead scientist of NOAA's Long-Range Hurricane Outlook Team since 1998 who will share the official 2012 Atlantic Hurricane Season forecast.  After the weather discussion\, disaster preparedness tips will be presented by Agility.  Space is limited.  Register at:  https://www1.gotomeeting.com/register/456830896.
X-ALT-DESC;FMTTYPE=text/html:Get Tips on Protecting Your Business this Hurricane Season. With Hurricane Season beginning June 1st\, a free webinar hosted by Agility Recovery Solutions and SBA is scheduled for \nMay 29\, 2012 from 2:00 p.m. to 3:00 p.m. EDT.  The webinar will feature Dr. Gerry Bell of the National Oceanic and Atmospheric Administration\, the lead scientist of NOAA's Long-Range Hurricane Outlook Team since 1998 who will share the official 2012 Atlantic Hurricane Season forecast.  After the weather discussion\, disaster preparedness tips will be presented by Agility.  Space is limited.  Register at:  https://www1.gotomeeting.com/register/456830896. \n
LOCATION:
UID:e.1828.3708
SEQUENCE:3
DTSTAMP:20260420T150812Z
URL:https://business.harlingen.com/events/details/get-tips-on-protecting-your-business-this-hurricane-season-05-29-2012-3708
END:VEVENT

END:VCALENDAR
