BEGIN:VCALENDAR
VERSION:2.0
PRODID:-//ChamberMaster//Event Calendar 2.0//EN
METHOD:PUBLISH
X-PUBLISHED-TTL:P3D
REFRESH-INTERVAL:P3D
CALSCALE:GREGORIAN
BEGIN:VEVENT
DTSTART:20120322T220000Z
DTEND:20120323T000000Z
X-MICROSOFT-CDO-ALLDAYEVENT:FALSE
SUMMARY:Girls Night Out Heartfelt Style
DESCRIPTION:Come by and join us showcase by several vendors - Thirty-one\, Pampered Chef\, Scentry\, Tower Garden and more. Fingerfood & beverage
X-ALT-DESC;FMTTYPE=text/html:Come by and join us showcase by several vendors - Thirty-one\, Pampered Chef\, Scentry\, Tower Garden and more. Fingerfood & beverage
LOCATION:Next to the Liibrary
UID:e.1828.3550
SEQUENCE:3
DTSTAMP:20260420T200016Z
URL:https://business.harlingen.com/events/details/girls-night-out-heartfelt-style-03-22-2012-3550
END:VEVENT

END:VCALENDAR
