BEGIN:VCALENDAR
VERSION:2.0
PRODID:-//ChamberMaster//Event Calendar 2.0//EN
METHOD:PUBLISH
X-PUBLISHED-TTL:P3D
REFRESH-INTERVAL:P3D
CALSCALE:GREGORIAN
BEGIN:VEVENT
DTSTART:20120913T230000Z
DTEND:20120913T230000Z
X-MICROSOFT-CDO-ALLDAYEVENT:FALSE
SUMMARY:Girls Night Out Heartfelt Style
DESCRIPTION:Join us as several vendors will be present offering early Christmas gift ideas.  Door prizes will be given and refreshments will be served!
X-ALT-DESC;FMTTYPE=text/html:Join us as several vendors will be present offering early Christmas gift ideas.  Door prizes will be given and refreshments will be served! \n
LOCATION:
UID:e.1828.3979
SEQUENCE:3
DTSTAMP:20260420T101602Z
URL:https://business.harlingen.com/events/details/girls-night-out-heartfelt-style-09-13-2012-3979
END:VEVENT

END:VCALENDAR
