BEGIN:VCALENDAR
VERSION:2.0
PRODID:-//ChamberMaster//Event Calendar 2.0//EN
METHOD:PUBLISH
X-PUBLISHED-TTL:P3D
REFRESH-INTERVAL:P3D
CALSCALE:GREGORIAN
BEGIN:VEVENT
DTSTART;VALUE=DATE:20101001
DTEND;VALUE=DATE:20101003
TRANSP:TRANSPARENT
X-MICROSOFT-CDO-ALLDAYEVENT:TRUE
SUMMARY:Glady's Porter Zoofari 2010
DESCRIPTION:You're Invited to a Wild Party at The Gladys Porter Zoo! Two evenings of FUN! Food\, Auction\, Music!\nPremiere Evening Friday\, October 1st at 6:00PM.  Preview of auction items and performance by The Brownsville Children's Choir. PREMIERE DINNER begins at 7PM\, catered by Ben's Liquor. \nAt 7:45 PM LIVE AUCTION begins.\n\nZoofari Evening\, Saturday- October 2nd\, 5:30PM\, GATES OPEN- Beverages available\, face painting & animal revue.  At 6:00-8:00PM- BBQ DINNER\, catered by Rudy's Bar-B-Q. At 6:00-9:15PM- BLACKBOARD AUCTION\, Live Music-Texas Heat\, Cash Bar & Margarita Bar.\n \nZoo Members - Friday & Saturday $100.00 each\, Saturday Only- $30.00 each.\nNon Members- Friday & Saturday- $110.00 each\, Saturday Only- $35.00 each.  For more information\, please call 956-546-7187.
X-ALT-DESC;FMTTYPE=text/html:You're Invited to a Wild Party at The Gladys Porter Zoo! Two evenings of FUN! Food\, Auction\, Music!\nPremiere Evening Friday\, October 1st at 6:00PM.  Preview of auction items and performance by The Brownsville Children's Choir. PREMIERE DINNER begins at 7PM\, catered by Ben's Liquor. \nAt 7:45 PM LIVE AUCTION begins.\n\nZoofari Evening\, Saturday- October 2nd\, 5:30PM\, GATES OPEN- Beverages available\, face painting & animal revue.  At 6:00-8:00PM- BBQ DINNER\, catered by Rudy's Bar-B-Q. At 6:00-9:15PM- BLACKBOARD AUCTION\, Live Music-Texas Heat\, Cash Bar & Margarita Bar.\n \nZoo Members - Friday & Saturday $100.00 each\, Saturday Only- $30.00 each.\nNon Members- Friday & Saturday- $110.00 each\, Saturday Only- $35.00 each.  For more information\, please call 956-546-7187.
LOCATION:
UID:e.1828.2774
SEQUENCE:3
DTSTAMP:20260421T203502Z
URL:https://business.harlingen.com/events/details/glady-s-porter-zoofari-2010-10-01-2010-2774
END:VEVENT

END:VCALENDAR
