BEGIN:VCALENDAR
VERSION:2.0
PRODID:-//ChamberMaster//Event Calendar 2.0//EN
METHOD:PUBLISH
X-PUBLISHED-TTL:P3D
REFRESH-INTERVAL:P3D
CALSCALE:GREGORIAN
BEGIN:VEVENT
DTSTART;VALUE=DATE:20110611
DTEND;VALUE=DATE:20110612
TRANSP:TRANSPARENT
X-MICROSOFT-CDO-ALLDAYEVENT:TRUE
SUMMARY:Gladys Porter Zoo "Wilds of East Africa"
DESCRIPTION:Travel with Gladys Porter Zoo experts and explore "The Wilds of East Africa" thrilling\, comprehensive and a great value. Contact Senior Veterinarian\, Dr. Tom deMaar at 956-546-0044 or tdemaar@gpz.org for more information.\nFind us on Facebook follow us on twitter. www.gpz.org
X-ALT-DESC;FMTTYPE=text/html:Travel with Gladys Porter Zoo experts and explore "The Wilds of East Africa" thrilling\, comprehensive and a great value. Contact Senior Veterinarian\, Dr. Tom deMaar at 956-546-0044 or tdemaar@gpz.org for more information.\nFind us on Facebook follow us on twitter. www.gpz.org
LOCATION:
UID:e.1828.3063
SEQUENCE:3
DTSTAMP:20260421T085133Z
URL:https://business.harlingen.com/events/details/gladys-porter-zoo-wilds-of-east-africa-06-11-2011-3063
END:VEVENT

END:VCALENDAR
