BEGIN:VCALENDAR
VERSION:2.0
PRODID:-//ChamberMaster//Event Calendar 2.0//EN
METHOD:PUBLISH
X-PUBLISHED-TTL:P3D
REFRESH-INTERVAL:P3D
CALSCALE:GREGORIAN
BEGIN:VEVENT
DTSTART:20110830T134500Z
DTEND:20110830T173000Z
X-MICROSOFT-CDO-ALLDAYEVENT:FALSE
SUMMARY:Global Access Exporter Forum
DESCRIPTION:U.S. Representative Ruben Hinojosa and Export-Import Bank of the United States Chairman and President Fred P. Hochberg invite you to attend the EX-IM Bank Exporter Forum. Learn how to increase your company's foreign sales. This event is tailored to address the needs of small and medium-sized businesses. No cost--Registration required at www.exim.gov/gasb. 1-800-565-3946
X-ALT-DESC;FMTTYPE=text/html:U.S. Representative Ruben Hinojosa and Export-Import Bank of the United States Chairman and President Fred P. Hochberg invite you to attend the EX-IM Bank Exporter Forum. Learn how to increase your company's foreign sales. This event is tailored to address the needs of small and medium-sized businesses. No cost--Registration required at www.exim.gov/gasb. 1-800-565-3946\n
LOCATION:
UID:e.1828.3153
SEQUENCE:3
DTSTAMP:20260421T050925Z
URL:https://business.harlingen.com/events/details/global-access-exporter-forum-08-30-2011-3153
END:VEVENT

END:VCALENDAR
