BEGIN:VCALENDAR
VERSION:2.0
PRODID:-//ChamberMaster//Event Calendar 2.0//EN
METHOD:PUBLISH
X-PUBLISHED-TTL:P3D
REFRESH-INTERVAL:P3D
CALSCALE:GREGORIAN
BEGIN:VEVENT
DTSTART:20101212T010000Z
DTEND:20101212T010000Z
X-MICROSOFT-CDO-ALLDAYEVENT:FALSE
SUMMARY:Gloria G. Canales Mexican Folklore School 35th Annual 2010 Extravaganza Folklorica
DESCRIPTION:Gloria G. Canales Mexican Folklore School of Dance Presents The 35th Annual 2010 Extravaganza Folklorica\nHarlingen Municipal Auditorium\nLive Music by: Mariachi 7 Leguas de Emilio Santos de McAllen. Sponsored by: Chapita's Restaurant & Catering. Tickets available at the Harlingen Municipal Auditorium
X-ALT-DESC;FMTTYPE=text/html:Gloria G. Canales Mexican Folklore School of Dance Presents The 35th Annual 2010 Extravaganza Folklorica\nHarlingen Municipal Auditorium\nLive Music by: Mariachi 7 Leguas de Emilio Santos de McAllen. Sponsored by: Chapita's Restaurant & Catering. Tickets available at the Harlingen Municipal Auditorium\n
LOCATION:Harlingen Municipal Auditorium
UID:e.1828.2867
SEQUENCE:3
DTSTAMP:20260421T171956Z
URL:https://business.harlingen.com/events/details/gloria-g-canales-mexican-folklore-school-35th-annual-2010-extravaganza-folklorica-12-11-2010-2867
END:VEVENT

END:VCALENDAR
