BEGIN:VCALENDAR
VERSION:2.0
PRODID:-//ChamberMaster//Event Calendar 2.0//EN
METHOD:PUBLISH
X-PUBLISHED-TTL:P3D
REFRESH-INTERVAL:P3D
CALSCALE:GREGORIAN
BEGIN:VEVENT
DTSTART:20120226T210000Z
DTEND:20120226T210000Z
X-MICROSOFT-CDO-ALLDAYEVENT:FALSE
SUMMARY:"Gloria G. Canales Mexican Folklorico School of Dancing"
DESCRIPTION:Harlingen Performing Arts Theatre Proudly Presents: "Gloria G. Canales Mexican Folklorico School of Dancing" Come and enjoy and afternoon of beautiful folklorico dancing from the different regions of Mexico\, spectacular costumes\,music and dancing\nTickets available for purchase at the door one hour before curtain.\nAdults: $10   Students: $5 ( under 18 yrs.)
X-ALT-DESC;FMTTYPE=text/html:Harlingen Performing Arts Theatre Proudly Presents: "Gloria G. Canales Mexican Folklorico School of Dancing" Come and enjoy and afternoon of beautiful folklorico dancing from the different regions of Mexico\, spectacular costumes\,music and dancing\nTickets available for purchase at the door one hour before curtain.\nAdults: $10   Students: $5 ( under 18 yrs.)\n
LOCATION:
UID:e.1828.3451
SEQUENCE:3
DTSTAMP:20260420T200818Z
URL:https://business.harlingen.com/events/details/gloria-g-canales-mexican-folklorico-school-of-dancing-02-26-2012-3451
END:VEVENT

END:VCALENDAR
