BEGIN:VCALENDAR
VERSION:2.0
PRODID:-//ChamberMaster//Event Calendar 2.0//EN
METHOD:PUBLISH
X-PUBLISHED-TTL:P3D
REFRESH-INTERVAL:P3D
CALSCALE:GREGORIAN
BEGIN:VEVENT
DTSTART:20091220T010000Z
DTEND:20091220T010000Z
X-MICROSOFT-CDO-ALLDAYEVENT:FALSE
SUMMARY:Gloria G. Canales Mexican Folkore School of Dance 34th Annual Extravaganza
DESCRIPTION:Live music from Mariachi 7 Lequas de Emilio Santos de McAllen.  Tickets available at the auditorium box office at 956-216-5990.  For special reserved seats\, please contact Gloria Canales at 956-423-0401.
X-ALT-DESC;FMTTYPE=text/html:Live music from Mariachi 7 Lequas de Emilio Santos de McAllen.  Tickets available at the auditorium box office at 956-216-5990.  For special reserved seats\, please contact Gloria Canales at 956-423-0401.
LOCATION:
UID:e.1828.2254
SEQUENCE:3
DTSTAMP:20260422T130804Z
URL:https://business.harlingen.com/events/details/gloria-g-canales-mexican-folkore-school-of-dance-34th-annual-extravaganza-12-19-2009-2254
END:VEVENT

END:VCALENDAR
