BEGIN:VCALENDAR
VERSION:2.0
PRODID:-//ChamberMaster//Event Calendar 2.0//EN
METHOD:PUBLISH
X-PUBLISHED-TTL:P3D
REFRESH-INTERVAL:P3D
CALSCALE:GREGORIAN
BEGIN:VEVENT
DTSTART;VALUE=DATE:20100927
DTEND;VALUE=DATE:20101002
TRANSP:TRANSPARENT
X-MICROSOFT-CDO-ALLDAYEVENT:TRUE
SUMMARY:GO TEXAN Restaurant Round-Up
DESCRIPTION:Make a date to Dine-Out & support local restaurants from Sept. 27 through Oct. 1.  Celebrate the menus of the Lone Star State and help kick off Texas Wine Month! Participating members of the Texas Department of Agriculture's GO TEXAN Restaurant Program will be serving special Texas menu items. Many also contribute a portion of the week's proceeds to food banks across the state.  Visit www.GOTEXANRestaurantRoundUp.com to register to win Texas-sized prizes and check out the list of participating restaurants in our area.
X-ALT-DESC;FMTTYPE=text/html:Make a date to Dine-Out & support local restaurants from Sept. 27 through Oct. 1.  Celebrate the menus of the Lone Star State and help kick off Texas Wine Month! Participating members of the Texas Department of Agriculture's GO TEXAN Restaurant Program will be serving special Texas menu items. Many also contribute a portion of the week's proceeds to food banks across the state.  Visit www.GOTEXANRestaurantRoundUp.com to register to win Texas-sized prizes and check out the list of participating restaurants in our area.
LOCATION:
UID:e.1828.2745
SEQUENCE:3
DTSTAMP:20260421T203433Z
URL:https://business.harlingen.com/events/details/go-texan-restaurant-round-up-09-27-2010-2745
END:VEVENT

END:VCALENDAR
