BEGIN:VCALENDAR
VERSION:2.0
PRODID:-//ChamberMaster//Event Calendar 2.0//EN
METHOD:PUBLISH
X-PUBLISHED-TTL:P3D
REFRESH-INTERVAL:P3D
CALSCALE:GREGORIAN
BEGIN:VEVENT
DTSTART;VALUE=DATE:20090928
DTEND;VALUE=DATE:20091003
TRANSP:TRANSPARENT
X-MICROSOFT-CDO-ALLDAYEVENT:TRUE
SUMMARY:GO TEXAN RESTAURANT ROUND-UP
DESCRIPTION:Texans across the state are invited to participate in the second GO TEXAN Restaurant Round-Up\, the weeklong statewide dine-out celebration from Monday\, Sept. 28\, to Friday\, Oct. 2\, 2009. Participating GO TEXAN restaurants will give patrons a special dining experience by serving Texas menu options\, featuring locally produced foods\, Texas wines\, shrimp\, fresh produce and much more. Many of the participating restaurants have pledged to donate a portion of the day's proceeds to food banks across the state. All around Texas – for five days from breakfast to dinner – restaurants\, cafés\, diners and wine bars will bring Texas to the table. GO TEXAN restaurants in Harlingen are Rio Grande Grille located at 417 W Van Buren and Smokey Joe's BBQ at 107 N 77 Sunshine Strip.
X-ALT-DESC;FMTTYPE=text/html:Texans across the state are invited to participate in the second GO TEXAN Restaurant Round-Up\, the weeklong statewide dine-out celebration from Monday\, Sept. 28\, to Friday\, Oct. 2\, 2009. Participating GO TEXAN restaurants will give patrons a special dining experience by serving Texas menu options\, featuring locally produced foods\, Texas wines\, shrimp\, fresh produce and much more. Many of the participating restaurants have pledged to donate a portion of the day's proceeds to food banks across the state. All around Texas – for five days from breakfast to dinner – restaurants\, cafés\, diners and wine bars will bring Texas to the table. GO TEXAN restaurants in Harlingen are Rio Grande Grille located at 417 W Van Buren and Smokey Joe's BBQ at 107 N 77 Sunshine Strip.\n
LOCATION:
UID:e.1828.1940
SEQUENCE:3
DTSTAMP:20260422T094524Z
URL:https://business.harlingen.com/events/details/go-texan-restaurant-round-up-09-28-2009-1940
END:VEVENT

END:VCALENDAR
