BEGIN:VCALENDAR
VERSION:2.0
PRODID:-//ChamberMaster//Event Calendar 2.0//EN
METHOD:PUBLISH
X-PUBLISHED-TTL:P3D
REFRESH-INTERVAL:P3D
CALSCALE:GREGORIAN
BEGIN:VEVENT
DTSTART:20110906T150000Z
DTEND:20110906T150000Z
X-MICROSOFT-CDO-ALLDAYEVENT:FALSE
SUMMARY:Gold's Gym Harlingen Grand Opeining
DESCRIPTION:Come celebrate the Grand Opening and Ribbon Cutting for Gold's Gym. Take a tour of the new facility and learn about the many classes they offer. A Zumbathon will be held out in the parking lot starting at 6pm that evening.
X-ALT-DESC;FMTTYPE=text/html:Come celebrate the Grand Opening and Ribbon Cutting for Gold's Gym. Take a tour of the new facility and learn about the many classes they offer. A Zumbathon will be held out in the parking lot starting at 6pm that evening.   \n \n
LOCATION:
UID:e.1828.3148
SEQUENCE:3
DTSTAMP:20260421T051444Z
URL:https://business.harlingen.com/events/details/gold-s-gym-harlingen-grand-opeining-09-06-2011-3148
END:VEVENT

END:VCALENDAR
