BEGIN:VCALENDAR
VERSION:2.0
PRODID:-//ChamberMaster//Event Calendar 2.0//EN
METHOD:PUBLISH
X-PUBLISHED-TTL:P3D
REFRESH-INTERVAL:P3D
CALSCALE:GREGORIAN
BEGIN:VEVENT
DTSTART:20120522T220000Z
DTEND:20120522T220000Z
X-MICROSOFT-CDO-ALLDAYEVENT:FALSE
SUMMARY:Gold's Gym One Year Anniversary and Ribbon Cutting
DESCRIPTION:Come join the fun as we celebrate the One Year Anniversary of Gold's Gym/Harlingen!  Refreshments will be served and there will be a two hour Zumbathon!
X-ALT-DESC;FMTTYPE=text/html:Come join the fun as we celebrate the One Year Anniversary of Gold's Gym/Harlingen!  Refreshments will be served and there will be a two hour Zumbathon!\n \n
LOCATION:
UID:e.1828.3621
SEQUENCE:3
DTSTAMP:20260420T151002Z
URL:https://business.harlingen.com/events/details/gold-s-gym-one-year-anniversary-and-ribbon-cutting-05-22-2012-3621
END:VEVENT

END:VCALENDAR
