BEGIN:VCALENDAR
VERSION:2.0
PRODID:-//ChamberMaster//Event Calendar 2.0//EN
METHOD:PUBLISH
X-PUBLISHED-TTL:P3D
REFRESH-INTERVAL:P3D
CALSCALE:GREGORIAN
BEGIN:VEVENT
DTSTART:20110604T190000Z
DTEND:20110604T220000Z
X-MICROSOFT-CDO-ALLDAYEVENT:FALSE
SUMMARY:Golden Palms Book Review and Signing/ ''Christianity Alive! With Prayer Power!''
DESCRIPTION:''Christianity Alive! With Prayer Power!''  Frances L. Knight\n\nFor further information please contact Elizabeth Jennings Associate Executive Director\nGolden Palms Retirement\, Rehabiliation\, and Healthcare\nOffice: 956-430-3175
X-ALT-DESC;FMTTYPE=text/html:''Christianity Alive! With Prayer Power!''  Frances L. Knight\n\nFor further information please contact Elizabeth Jennings Associate Executive Director\nGolden Palms Retirement\, Rehabiliation\, and Healthcare\nOffice: 956-430-3175\n
LOCATION:The Texas Room at Golden Palms Retirement and Health Center
UID:e.1828.3041
SEQUENCE:3
DTSTAMP:20260421T085342Z
URL:https://business.harlingen.com/events/details/golden-palms-book-review-and-signing-christianity-alive-with-prayer-power-06-04-2011-3041
END:VEVENT

END:VCALENDAR
