BEGIN:VCALENDAR
VERSION:2.0
PRODID:-//ChamberMaster//Event Calendar 2.0//EN
METHOD:PUBLISH
X-PUBLISHED-TTL:P3D
REFRESH-INTERVAL:P3D
CALSCALE:GREGORIAN
BEGIN:VEVENT
DTSTART:20101209T230000Z
DTEND:20101210T010000Z
X-MICROSOFT-CDO-ALLDAYEVENT:FALSE
SUMMARY:Golden Palms Holiday Open House
DESCRIPTION:Come and join us for our "Merry Christmas Holiday Open House".\n\nLet's help support "Toys for Tots" and bring in a new unwrapped toy to the event!
X-ALT-DESC;FMTTYPE=text/html:Come and join us for our "Merry Christmas Holiday Open House".\n\nLet's help support "Toys for Tots" and bring in a new unwrapped toy to the event!
LOCATION:
UID:e.1828.2863
SEQUENCE:3
DTSTAMP:20260421T171652Z
URL:https://business.harlingen.com/events/details/golden-palms-holiday-open-house-12-09-2010-2863
END:VEVENT

END:VCALENDAR
