BEGIN:VCALENDAR
VERSION:2.0
PRODID:-//ChamberMaster//Event Calendar 2.0//EN
METHOD:PUBLISH
X-PUBLISHED-TTL:P3D
REFRESH-INTERVAL:P3D
CALSCALE:GREGORIAN
BEGIN:VEVENT
DTSTART:20091216T000000Z
DTEND:20091216T020000Z
X-MICROSOFT-CDO-ALLDAYEVENT:FALSE
SUMMARY:Golden Palms Holiday Open House
DESCRIPTION:Please join us for our Holiday Open House on Tuesday\, December 15th from 6:00 to 8:00 pm.  Enjoy light hors d'oeuvres\, refreshments and explore all the new & exciting changes happening at Golden Palms plus live entertainment & Holiday Santa prizes.  For more information\, please call 956-389-4653.
X-ALT-DESC;FMTTYPE=text/html:Please join us for our Holiday Open House on Tuesday\, December 15th from 6:00 to 8:00 pm.  Enjoy light hors d'oeuvres\, refreshments and explore all the new & exciting changes happening at Golden Palms plus live entertainment & Holiday Santa prizes.  For more information\, please call 956-389-4653.
LOCATION:
UID:e.1828.2253
SEQUENCE:3
DTSTAMP:20260422T130151Z
URL:https://business.harlingen.com/events/details/golden-palms-holiday-open-house-12-15-2009-2253
END:VEVENT

END:VCALENDAR
