BEGIN:VCALENDAR
VERSION:2.0
PRODID:-//ChamberMaster//Event Calendar 2.0//EN
METHOD:PUBLISH
X-PUBLISHED-TTL:P3D
REFRESH-INTERVAL:P3D
CALSCALE:GREGORIAN
BEGIN:VEVENT
DTSTART:20101028T223000Z
DTEND:20101029T020000Z
X-MICROSOFT-CDO-ALLDAYEVENT:FALSE
SUMMARY:Golden Palms Retirement & Healthcare Center Re-Grand Opening/Ribbon Cutting
DESCRIPTION:You are invited to attend a Re-Grand Opening/Ribbon Cutting at Golden Palms Retirement Center.  Appetizers\, adult beverages\, and great food\, prepared by Golden Palms' own chefs will be served.  Stop by and enjoy beautiful piano music\, violinists and classical guitarists.  Tours of the newly renovated areas will be offered.
X-ALT-DESC;FMTTYPE=text/html:You are invited to attend a Re-Grand Opening/Ribbon Cutting at Golden Palms Retirement Center.  Appetizers\, adult beverages\, and great food\, prepared by Golden Palms' own chefs will be served.  Stop by and enjoy beautiful piano music\, violinists and classical guitarists.  Tours of the newly renovated areas will be offered.\n
LOCATION:
UID:e.1828.2782
SEQUENCE:3
DTSTAMP:20260421T204218Z
URL:https://business.harlingen.com/events/details/golden-palms-retirement-healthcare-center-re-grand-opening-ribbon-cutting-10-28-2010-2782
END:VEVENT

END:VCALENDAR
