BEGIN:VCALENDAR
VERSION:2.0
PRODID:-//ChamberMaster//Event Calendar 2.0//EN
METHOD:PUBLISH
X-PUBLISHED-TTL:P3D
REFRESH-INTERVAL:P3D
CALSCALE:GREGORIAN
BEGIN:VEVENT
DTSTART:20110119T170000Z
DTEND:20110119T220000Z
X-MICROSOFT-CDO-ALLDAYEVENT:FALSE
SUMMARY:Golden Palms Retirement & Healthcare Center Winter Texan Fiesta
DESCRIPTION:Winter Texas FIESTA\, bargain bazaar\, refreshments and tours!
X-ALT-DESC;FMTTYPE=text/html:Winter Texas FIESTA\, bargain bazaar\, refreshments and tours!
LOCATION:Golden Palms Courtyard
UID:e.1828.2889
SEQUENCE:3
DTSTAMP:20260421T172220Z
URL:https://business.harlingen.com/events/details/golden-palms-retirement-healthcare-center-winter-texan-fiesta-01-19-2011-2889
END:VEVENT

END:VCALENDAR
